BEGIN:VCALENDAR
VERSION:2.0
PRODID:-//Leszno Tenis Klub - ECPv6.3.3.1//NONSGML v1.0//EN
CALSCALE:GREGORIAN
METHOD:PUBLISH
X-ORIGINAL-URL:https://lesznotenisklub.pl
X-WR-CALDESC:Events for Leszno Tenis Klub
REFRESH-INTERVAL;VALUE=DURATION:PT1H
X-Robots-Tag:noindex
X-PUBLISHED-TTL:PT1H
BEGIN:VTIMEZONE
TZID:Europe/Warsaw
BEGIN:DAYLIGHT
TZOFFSETFROM:+0100
TZOFFSETTO:+0200
TZNAME:CEST
DTSTART:20260329T010000
END:DAYLIGHT
BEGIN:STANDARD
TZOFFSETFROM:+0200
TZOFFSETTO:+0100
TZNAME:CET
DTSTART:20261025T010000
END:STANDARD
END:VTIMEZONE
BEGIN:VEVENT
DTSTART;TZID=Europe/Warsaw:20260426T000000
DTEND;TZID=Europe/Warsaw:20260426T235900
DTSTAMP:20260424T164931
CREATED:20250819T173643Z
LAST-MODIFIED:20250819T173643Z
UID:9904-1777161600-1777247940@lesznotenisklub.pl
SUMMARY:DEBEL
DESCRIPTION:[vc_row][vc_column][vc_column_text] \n[/vc_column_text][/vc_column][/vc_row][vc_row css=”.vc_custom_1670142047377{margin-top: 0px !important;margin-bottom: 0px !important;padding-top: 0px !important;padding-bottom: 0px !important;}”][vc_column width=”1/2″ css=”.vc_custom_1669038660344{margin-bottom: 0px !important;padding-top: 0px !important;padding-right: 0px !important;padding-bottom: 0px !important;padding-left: 0px !important;}”][vc_column_text] \n🎾 Turniej Deblowy – Hala Akwawit 🎾 \n📅 26.04 2026📍 Hala Akwawit\, Leszno⏰ Start: 12:00 \nW połowie lutego zapraszamy na emocjonujące rozgrywki deblowe! Gwarantujemy pełne sportowych wrażeń pojedynki\, szybkie wymiany i świetną atmosferę rywalizacji na kortach hali Akwawit. 💪⚡ \n➡️ Szczegóły\, harmonogram i informacje o zapisach znajdziecie na naszym Facebooku. \nNie przegapcie okazji\, by wziąć udział w tenisowej rywalizacji i poczuć sportowe emocje na najwyższym poziomie! 🎾🔥 \n[/vc_column_text][/vc_column][vc_column width=”1/2″ css=”.vc_custom_1670142054734{padding-right: 10% !important;padding-left: 5% !important;}”][/vc_column][/vc_row]
URL:https://lesznotenisklub.pl/wydarzenie/debel-2/
CATEGORIES:tenis
END:VEVENT
END:VCALENDAR