BEGIN:VCALENDAR
VERSION:2.0
PRODID:-//Leszno Tenis Klub - ECPv6.3.3.1//NONSGML v1.0//EN
CALSCALE:GREGORIAN
METHOD:PUBLISH
X-ORIGINAL-URL:https://lesznotenisklub.pl
X-WR-CALDESC:Events for Leszno Tenis Klub
REFRESH-INTERVAL;VALUE=DURATION:PT1H
X-Robots-Tag:noindex
X-PUBLISHED-TTL:PT1H
BEGIN:VTIMEZONE
TZID:Europe/Warsaw
BEGIN:DAYLIGHT
TZOFFSETFROM:+0100
TZOFFSETTO:+0200
TZNAME:CEST
DTSTART:20260329T010000
END:DAYLIGHT
BEGIN:STANDARD
TZOFFSETFROM:+0200
TZOFFSETTO:+0100
TZNAME:CET
DTSTART:20261025T010000
END:STANDARD
END:VTIMEZONE
BEGIN:VEVENT
DTSTART;TZID=Europe/Warsaw:20260503T000000
DTEND;TZID=Europe/Warsaw:20260503T235900
DTSTAMP:20260424T181217
CREATED:20250820T091833Z
LAST-MODIFIED:20250820T091833Z
UID:9920-1777766400-1777852740@lesznotenisklub.pl
SUMMARY:Turniej PLT
DESCRIPTION:[vc_row][vc_column][vc_column_text] \n[/vc_column_text][/vc_column][/vc_row][vc_row css=”.vc_custom_1670142047377{margin-top: 0px !important;margin-bottom: 0px !important;padding-top: 0px !important;padding-bottom: 0px !important;}”][vc_column width=”1/2″ css=”.vc_custom_1669038660344{margin-bottom: 0px !important;padding-top: 0px !important;padding-right: 0px !important;padding-bottom: 0px !important;padding-left: 0px !important;}”][vc_column_text] \n\nJuż 3.05 zapraszamy wszystkich miłośników tenisa na emocjonujący turniej Polska Liga Tenisa w Lesznie! \n Rozgrywki – miejsce dla każdego\, niezależnie od poziomu!\n\n\n Zapisy trwają na: polskaligatenisa.pl\n Nie zwlekaj – największa liga amatorów w Polsce czeka właśnie na Ciebie!\n\n\nPolska Liga Tenisa\n\n\n Dołącz do społeczności pasjonatów tenisa w Lesznie! \n\n\n#PolskaLigaTenisa #Leszno #TenisAmatorski\n\n[/vc_column_text][/vc_column][vc_column width=”1/2″ css=”.vc_custom_1670142054734{padding-right: 10% !important;padding-left: 5% !important;}”][/vc_column][/vc_row]
URL:https://lesznotenisklub.pl/wydarzenie/turniej-plt-15/
CATEGORIES:tenis
END:VEVENT
END:VCALENDAR