BEGIN:VCALENDAR
VERSION:2.0
PRODID:-//Leszno Tenis Klub - ECPv6.3.3.1//NONSGML v1.0//EN
CALSCALE:GREGORIAN
METHOD:PUBLISH
X-ORIGINAL-URL:https://lesznotenisklub.pl
X-WR-CALDESC:Events for Leszno Tenis Klub
REFRESH-INTERVAL;VALUE=DURATION:PT1H
X-Robots-Tag:noindex
X-PUBLISHED-TTL:PT1H
BEGIN:VTIMEZONE
TZID:Europe/Warsaw
BEGIN:DAYLIGHT
TZOFFSETFROM:+0100
TZOFFSETTO:+0200
TZNAME:CEST
DTSTART:20260329T010000
END:DAYLIGHT
BEGIN:STANDARD
TZOFFSETFROM:+0200
TZOFFSETTO:+0100
TZNAME:CET
DTSTART:20261025T010000
END:STANDARD
END:VTIMEZONE
BEGIN:VEVENT
DTSTART;TZID=Europe/Warsaw:20260503T000000
DTEND;TZID=Europe/Warsaw:20260503T235900
DTSTAMP:20260424T181023
CREATED:20250820T091833Z
LAST-MODIFIED:20250820T091833Z
UID:9920-1777766400-1777852740@lesznotenisklub.pl
SUMMARY:Turniej PLT
DESCRIPTION:[vc_row][vc_column][vc_column_text] \n[/vc_column_text][/vc_column][/vc_row][vc_row css=”.vc_custom_1670142047377{margin-top: 0px !important;margin-bottom: 0px !important;padding-top: 0px !important;padding-bottom: 0px !important;}”][vc_column width=”1/2″ css=”.vc_custom_1669038660344{margin-bottom: 0px !important;padding-top: 0px !important;padding-right: 0px !important;padding-bottom: 0px !important;padding-left: 0px !important;}”][vc_column_text] \n\nJuż 3.05 zapraszamy wszystkich miłośników tenisa na emocjonujący turniej Polska Liga Tenisa w Lesznie! \n Rozgrywki – miejsce dla każdego\, niezależnie od poziomu!\n\n\n Zapisy trwają na: polskaligatenisa.pl\n Nie zwlekaj – największa liga amatorów w Polsce czeka właśnie na Ciebie!\n\n\nPolska Liga Tenisa\n\n\n Dołącz do społeczności pasjonatów tenisa w Lesznie! \n\n\n#PolskaLigaTenisa #Leszno #TenisAmatorski\n\n[/vc_column_text][/vc_column][vc_column width=”1/2″ css=”.vc_custom_1670142054734{padding-right: 10% !important;padding-left: 5% !important;}”][/vc_column][/vc_row]
URL:https://lesznotenisklub.pl/wydarzenie/turniej-plt-15/
CATEGORIES:tenis
END:VEVENT
BEGIN:VEVENT
DTSTART;TZID=Europe/Warsaw:20260510T000000
DTEND;TZID=Europe/Warsaw:20260510T235900
DTSTAMP:20260424T181023
CREATED:20250819T174609Z
LAST-MODIFIED:20250819T174609Z
UID:9909-1778371200-1778457540@lesznotenisklub.pl
SUMMARY:MIKSTY
DESCRIPTION:[vc_row][vc_column][vc_column_text] \n[/vc_column_text][/vc_column][/vc_row][vc_row css=”.vc_custom_1670142047377{margin-top: 0px !important;margin-bottom: 0px !important;padding-top: 0px !important;padding-bottom: 0px !important;}”][vc_column width=”1/2″ css=”.vc_custom_1669038660344{margin-bottom: 0px !important;padding-top: 0px !important;padding-right: 0px !important;padding-bottom: 0px !important;padding-left: 0px !important;}”][vc_column_text] \n🎾 Turniej Mikstowy – Hala Akwawit 🎾 \n📅 10 maj 2026📍 Hala Akwawit\, Leszno⏰ Start: 12:00 \nPary mieszane na start! 💑⚡1 marca zapraszamy na Turniej Mikstowy\, w którym pary damsko-męskie zmierzą się w emocjonujących meczach deblowych. To świetna okazja\, by połączyć rywalizację z dobrą zabawą i sportową integracją. \n➡️ Szczegóły i zapisy znajdziecie na naszym Facebooku. \nNie przegapcie okazji\, by wziąć udział w tenisowej rywalizacji i poczuć sportowe emocje na korcie! 🎾🔥 \n[/vc_column_text][/vc_column][vc_column width=”1/2″ css=”.vc_custom_1670142054734{padding-right: 10% !important;padding-left: 5% !important;}”][/vc_column][/vc_row]
URL:https://lesznotenisklub.pl/wydarzenie/miksty-5/
CATEGORIES:tenis
END:VEVENT
BEGIN:VEVENT
DTSTART;TZID=Europe/Warsaw:20260517T000000
DTEND;TZID=Europe/Warsaw:20260517T235900
DTSTAMP:20260424T181023
CREATED:20250820T091725Z
LAST-MODIFIED:20250820T091725Z
UID:9918-1778976000-1779062340@lesznotenisklub.pl
SUMMARY:Grand Prix dzieci kat. żółta/zielona
DESCRIPTION:[vc_row][vc_column][vc_column_text] \n[/vc_column_text][/vc_column][/vc_row][vc_row css=”.vc_custom_1670142047377{margin-top: 0px !important;margin-bottom: 0px !important;padding-top: 0px !important;padding-bottom: 0px !important;}”][vc_column width=”1/2″ css=”.vc_custom_1669038660344{margin-bottom: 0px !important;padding-top: 0px !important;padding-right: 0px !important;padding-bottom: 0px !important;padding-left: 0px !important;}”][vc_column_text] \n🎾 Grand Prix Dzieci – Żółta & Zielona Piłka 🎾 \n📅 17 maja 2026📍 Hala Akwawit\, Leszno \n17 maja zapraszamy najmłodszych tenisistów na kolejną odsłonę Grand Prix Dzieci! 🌟Rywalizacja odbędzie się w dwóch kategoriach:🎾 Żółta Piłka – dla bardziej zaawansowanych młodych zawodników🎾 Zielona Piłka – dla tych\, którzy dopiero zdobywają turniejowe doświadczenie \nTo idealna okazja\, by sprawdzić swoje umiejętności\, poczuć sportowe emocje i świetnie się bawić na korcie 💪 \n➡️ Zapisy i szczegóły znajdziecie na naszym Facebooku. \nDo zobaczenia na turnieju! 🏆 \n[/vc_column_text][/vc_column][vc_column width=”1/2″ css=”.vc_custom_1670142054734{padding-right: 10% !important;padding-left: 5% !important;}”][/vc_column][/vc_row]
URL:https://lesznotenisklub.pl/wydarzenie/grand-prix-dzieci-kat-zolta-zielona-3/
CATEGORIES:tenis
END:VEVENT
BEGIN:VEVENT
DTSTART;TZID=Europe/Warsaw:20260523T000000
DTEND;TZID=Europe/Warsaw:20260523T235900
DTSTAMP:20260424T181023
CREATED:20250819T172815Z
LAST-MODIFIED:20250819T172815Z
UID:9894-1779494400-1779580740@lesznotenisklub.pl
SUMMARY:Turniej PZT do lat 12
DESCRIPTION:[vc_row][vc_column][vc_column_text] \n[/vc_column_text][/vc_column][/vc_row][vc_row css=”.vc_custom_1670142047377{margin-top: 0px !important;margin-bottom: 0px !important;padding-top: 0px !important;padding-bottom: 0px !important;}”][vc_column width=”1/2″ css=”.vc_custom_1669038660344{margin-bottom: 0px !important;padding-top: 0px !important;padding-right: 0px !important;padding-bottom: 0px !important;padding-left: 0px !important;}”][vc_column_text] \n🌟 Turniej do lat 12 PZT – Hala Akwawit 🌟 \n📅 23/24 maja 2026📍 Hala Akwawit\, Leszno \nNa zakończenie stycznia Leszno stanie się areną młodzieżowego tenisa w najlepszym wydaniu! W dniach 23 maja – 24 maja odbędzie się Turniej do lat 12 organizowany przez Polski Związek Tenisa (PZT). \nMłodzi zawodnicy będą rywalizować o punkty rankingowe i prestiżowe miejsca\, prezentując swoje umiejętności w dynamicznych i emocjonujących meczach. ⚡🎾 \n➡️ Szczegóły dotyczące zapisów i harmonogramu dostępne na naszym Facebooku. \nPrzyjdźcie kibicować i wspierajcie przyszłe gwiazdy tenisa! 🌟💪 \n[/vc_column_text][/vc_column][vc_column width=”1/2″ css=”.vc_custom_1670142054734{padding-right: 10% !important;padding-left: 5% !important;}”][/vc_column][/vc_row]
URL:https://lesznotenisklub.pl/wydarzenie/turniej-pzt-do-lat-12-5/
CATEGORIES:tenis
END:VEVENT
BEGIN:VEVENT
DTSTART;TZID=Europe/Warsaw:20260524T000000
DTEND;TZID=Europe/Warsaw:20260524T235900
DTSTAMP:20260424T181023
CREATED:20250819T172844Z
LAST-MODIFIED:20250819T172844Z
UID:9896-1779580800-1779667140@lesznotenisklub.pl
SUMMARY:Turniej PZT do lat 12
DESCRIPTION:[vc_row][vc_column][vc_column_text] \n[/vc_column_text][/vc_column][/vc_row][vc_row css=”.vc_custom_1670142047377{margin-top: 0px !important;margin-bottom: 0px !important;padding-top: 0px !important;padding-bottom: 0px !important;}”][vc_column width=”1/2″ css=”.vc_custom_1669038660344{margin-bottom: 0px !important;padding-top: 0px !important;padding-right: 0px !important;padding-bottom: 0px !important;padding-left: 0px !important;}”][vc_column_text] \n🌟 Turniej do lat 12 PZT – Hala Akwawit 🌟 \n📅 23/24 maja 2026📍 Hala Akwawit\, Leszno \nNa zakończenie stycznia Leszno stanie się areną młodzieżowego tenisa w najlepszym wydaniu! W dniach 23 maja – 24 maja odbędzie się Turniej do lat 12 organizowany przez Polski Związek Tenisa (PZT). \nMłodzi zawodnicy będą rywalizować o punkty rankingowe i prestiżowe miejsca\, prezentując swoje umiejętności w dynamicznych i emocjonujących meczach. ⚡🎾 \n➡️ Szczegóły dotyczące zapisów i harmonogramu dostępne na naszym Facebooku. \nPrzyjdźcie kibicować i wspierajcie przyszłe gwiazdy tenisa! 🌟💪 \n[/vc_column_text][/vc_column][vc_column width=”1/2″ css=”.vc_custom_1670142054734{padding-right: 10% !important;padding-left: 5% !important;}”][/vc_column][/vc_row]
URL:https://lesznotenisklub.pl/wydarzenie/turniej-pzt-do-lat-12-6/
CATEGORIES:tenis
END:VEVENT
BEGIN:VEVENT
DTSTART;TZID=Europe/Warsaw:20260531T000000
DTEND;TZID=Europe/Warsaw:20260531T235900
DTSTAMP:20260424T181023
CREATED:20250819T173310Z
LAST-MODIFIED:20250819T173310Z
UID:9900-1780185600-1780271940@lesznotenisklub.pl
SUMMARY:Turniej dla Kobiet
DESCRIPTION:[vc_row][vc_column][vc_column_text] \n[/vc_column_text][/vc_column][/vc_row][vc_row css=”.vc_custom_1670142047377{margin-top: 0px !important;margin-bottom: 0px !important;padding-top: 0px !important;padding-bottom: 0px !important;}”][vc_column width=”1/2″ css=”.vc_custom_1669038660344{margin-bottom: 0px !important;padding-top: 0px !important;padding-right: 0px !important;padding-bottom: 0px !important;padding-left: 0px !important;}”][vc_column_text] \n🌷🎾 Turniej Tenisowy dla Kobiet 🎾🌷 \n📅 31 maja 2026📍 Hala Akwawit\, Leszno⏰ Start: 12:00 \nMajowa aura sprzyja sportowym emocjom! 💪31 maja zapraszamy wszystkie panie na kolejny Turniej Tenisowy dla Kobiet na naszych kortach w hali Akwawit. To doskonała okazja\, aby w przyjaznej atmosferze sprawdzić formę\, rywalizować w duchu fair play i spędzić aktywny dzień w gronie pasjonatek tenisa. \n➡️ Szczegóły i zapisy tradycyjnie dostępne na naszym Facebooku. \nNie przegapcie kolejnej okazji do sportowej rywalizacji i dobrej zabawy na korcie! 🎾🔥 \n[/vc_column_text][/vc_column][vc_column width=”1/2″ css=”.vc_custom_1670142054734{padding-right: 10% !important;padding-left: 5% !important;}”][/vc_column][/vc_row]
URL:https://lesznotenisklub.pl/wydarzenie/turniej-dla-kobiet-4/
CATEGORIES:tenis
END:VEVENT
END:VCALENDAR