BEGIN:VCALENDAR
VERSION:2.0
PRODID:-//Leszno Tenis Klub - ECPv6.3.3.1//NONSGML v1.0//EN
CALSCALE:GREGORIAN
METHOD:PUBLISH
X-WR-CALNAME:Leszno Tenis Klub
X-ORIGINAL-URL:https://lesznotenisklub.pl
X-WR-CALDESC:Events for Leszno Tenis Klub
REFRESH-INTERVAL;VALUE=DURATION:PT1H
X-Robots-Tag:noindex
X-PUBLISHED-TTL:PT1H
BEGIN:VTIMEZONE
TZID:Europe/Warsaw
BEGIN:DAYLIGHT
TZOFFSETFROM:+0100
TZOFFSETTO:+0200
TZNAME:CEST
DTSTART:20260329T010000
END:DAYLIGHT
BEGIN:STANDARD
TZOFFSETFROM:+0200
TZOFFSETTO:+0100
TZNAME:CET
DTSTART:20261025T010000
END:STANDARD
END:VTIMEZONE
BEGIN:VEVENT
DTSTART;TZID=Europe/Warsaw:20260517T000000
DTEND;TZID=Europe/Warsaw:20260517T235900
DTSTAMP:20260424T162507
CREATED:20250820T091725Z
LAST-MODIFIED:20250820T091725Z
UID:9918-1778976000-1779062340@lesznotenisklub.pl
SUMMARY:Grand Prix dzieci kat. żółta/zielona
DESCRIPTION:[vc_row][vc_column][vc_column_text] \n[/vc_column_text][/vc_column][/vc_row][vc_row css=”.vc_custom_1670142047377{margin-top: 0px !important;margin-bottom: 0px !important;padding-top: 0px !important;padding-bottom: 0px !important;}”][vc_column width=”1/2″ css=”.vc_custom_1669038660344{margin-bottom: 0px !important;padding-top: 0px !important;padding-right: 0px !important;padding-bottom: 0px !important;padding-left: 0px !important;}”][vc_column_text] \n🎾 Grand Prix Dzieci – Żółta & Zielona Piłka 🎾 \n📅 17 maja 2026📍 Hala Akwawit\, Leszno \n17 maja zapraszamy najmłodszych tenisistów na kolejną odsłonę Grand Prix Dzieci! 🌟Rywalizacja odbędzie się w dwóch kategoriach:🎾 Żółta Piłka – dla bardziej zaawansowanych młodych zawodników🎾 Zielona Piłka – dla tych\, którzy dopiero zdobywają turniejowe doświadczenie \nTo idealna okazja\, by sprawdzić swoje umiejętności\, poczuć sportowe emocje i świetnie się bawić na korcie 💪 \n➡️ Zapisy i szczegóły znajdziecie na naszym Facebooku. \nDo zobaczenia na turnieju! 🏆 \n[/vc_column_text][/vc_column][vc_column width=”1/2″ css=”.vc_custom_1670142054734{padding-right: 10% !important;padding-left: 5% !important;}”][/vc_column][/vc_row]
URL:https://lesznotenisklub.pl/wydarzenie/grand-prix-dzieci-kat-zolta-zielona-3/
CATEGORIES:tenis
END:VEVENT
END:VCALENDAR