BEGIN:VCALENDAR
VERSION:2.0
PRODID:-//Leszno Tenis Klub - ECPv6.3.3.1//NONSGML v1.0//EN
CALSCALE:GREGORIAN
METHOD:PUBLISH
X-ORIGINAL-URL:https://lesznotenisklub.pl
X-WR-CALDESC:Events for Leszno Tenis Klub
REFRESH-INTERVAL;VALUE=DURATION:PT1H
X-Robots-Tag:noindex
X-PUBLISHED-TTL:PT1H
BEGIN:VTIMEZONE
TZID:Europe/Warsaw
BEGIN:DAYLIGHT
TZOFFSETFROM:+0100
TZOFFSETTO:+0200
TZNAME:CEST
DTSTART:20260329T010000
END:DAYLIGHT
BEGIN:STANDARD
TZOFFSETFROM:+0200
TZOFFSETTO:+0100
TZNAME:CET
DTSTART:20261025T010000
END:STANDARD
END:VTIMEZONE
BEGIN:VEVENT
DTSTART;TZID=Europe/Warsaw:20260329T000000
DTEND;TZID=Europe/Warsaw:20260329T235900
DTSTAMP:20260424T162616
CREATED:20250819T172614Z
LAST-MODIFIED:20260309T105719Z
UID:9892-1774742400-1774828740@lesznotenisklub.pl
SUMMARY:Talenciaki
DESCRIPTION:[vc_row][vc_column][vc_column_text] \n[/vc_column_text][/vc_column][/vc_row][vc_row css=”.vc_custom_1670142047377{margin-top: 0px !important;margin-bottom: 0px !important;padding-top: 0px !important;padding-bottom: 0px !important;}”][vc_column width=”1/2″ css=”.vc_custom_1669038660344{margin-bottom: 0px !important;padding-top: 0px !important;padding-right: 0px !important;padding-bottom: 0px !important;padding-left: 0px !important;}”][vc_column_text] \n🌟 Turniej do lat 12 PZT – Hala Akwawit 🌟 \n📅 28/29 marca 2026📍 Hala Akwawit\, Leszno \nNa zakończenie stycznia Leszno stanie się areną młodzieżowego tenisa w najlepszym wydaniu! W dniach 28 marca – 29 marca odbędzie się Turniej do lat 12 organizowany przez Polski Związek Tenisa (PZT). \nMłodzi zawodnicy będą rywalizować o punkty rankingowe i prestiżowe miejsca\, prezentując swoje umiejętności w dynamicznych i emocjonujących meczach. ⚡🎾 \n➡️ Szczegóły dotyczące zapisów i harmonogramu dostępne na naszym Facebooku. \nPrzyjdźcie kibicować i wspierajcie przyszłe gwiazdy tenisa! 🌟💪 \n[/vc_column_text][/vc_column][vc_column width=”1/2″ css=”.vc_custom_1670142054734{padding-right: 10% !important;padding-left: 5% !important;}”][/vc_column][/vc_row]
URL:https://lesznotenisklub.pl/wydarzenie/turniej-pzt-do-lat-12-4/
CATEGORIES:tenis
END:VEVENT
END:VCALENDAR