BEGIN:VCALENDAR
VERSION:2.0
PRODID:-//Leszno Tenis Klub - ECPv6.3.3.1//NONSGML v1.0//EN
CALSCALE:GREGORIAN
METHOD:PUBLISH
X-WR-CALNAME:Leszno Tenis Klub
X-ORIGINAL-URL:https://lesznotenisklub.pl
X-WR-CALDESC:Events for Leszno Tenis Klub
REFRESH-INTERVAL;VALUE=DURATION:PT1H
X-Robots-Tag:noindex
X-PUBLISHED-TTL:PT1H
BEGIN:VTIMEZONE
TZID:Europe/Warsaw
BEGIN:DAYLIGHT
TZOFFSETFROM:+0100
TZOFFSETTO:+0200
TZNAME:CEST
DTSTART:20260329T010000
END:DAYLIGHT
BEGIN:STANDARD
TZOFFSETFROM:+0200
TZOFFSETTO:+0100
TZNAME:CET
DTSTART:20261025T010000
END:STANDARD
END:VTIMEZONE
BEGIN:VEVENT
DTSTART;TZID=Europe/Warsaw:20260308T000000
DTEND;TZID=Europe/Warsaw:20260308T235900
DTSTAMP:20260424T162547
CREATED:20250819T173050Z
LAST-MODIFIED:20250819T173050Z
UID:9898-1772928000-1773014340@lesznotenisklub.pl
SUMMARY:Turniej dla Kobiet
DESCRIPTION:[vc_row][vc_column][vc_column_text] \n[/vc_column_text][/vc_column][/vc_row][vc_row css=”.vc_custom_1670142047377{margin-top: 0px !important;margin-bottom: 0px !important;padding-top: 0px !important;padding-bottom: 0px !important;}”][vc_column width=”1/2″ css=”.vc_custom_1669038660344{margin-bottom: 0px !important;padding-top: 0px !important;padding-right: 0px !important;padding-bottom: 0px !important;padding-left: 0px !important;}”][vc_column_text] \n🌸🎾 Turniej Tenisowy dla Kobiet – Świętujemy 8 Marca! 🎾🌸 \n📅 8 marca 2026📍 Hala Akwawit\, Leszno⏰ Start: 12:00 \nZ okazji Dnia Kobiet zapraszamy wszystkie panie na wyjątkowy Turniej Tenisowy dla Kobiet w hali Akwawit! To idealna okazja\, by w sportowej atmosferze uczcić ten wyjątkowy dzień\, sprawdzić formę i spędzić aktywnie czas w gronie pasjonatek tenisa. 💪✨ \n➡️ Szczegóły\, zapisy i więcej informacji znajdziecie na naszym Facebooku. \nPrzyjdźcie świętować Dzień Kobiet na korcie i cieszcie się sportową rywalizacją! 🎾🔥 \n[/vc_column_text][/vc_column][vc_column width=”1/2″ css=”.vc_custom_1670142054734{padding-right: 10% !important;padding-left: 5% !important;}”][/vc_column][/vc_row]
URL:https://lesznotenisklub.pl/wydarzenie/turniej-dla-kobiet-3/
CATEGORIES:tenis
END:VEVENT
END:VCALENDAR